
BEGIN:VCALENDAR
VERSION:2.0
PRODID:-//SQRCODE v1.0//EN
CALSCALE:GREGORIAN
BEGIN:VEVENT
DTEND:20230415T200000Z
UID:VH9UMZ9UEFV
DTSTAMP:20260422T101534Z
LOCATION:Balatonlelle Köztársaság út 36-38. 8638   
DESCRIPTION:Köszöntsük a tavaszt egy vadonatúj fesztivállal! 
URL;VALUE=URI:
SUMMARY:BöFF Fesztivál - Balatoni borok és füstölt falatok fesztiv
 álja Balatonlellén
DTSTART:20230415T120000Z
END:VEVENT
END:VCALENDAR