
BEGIN:VCALENDAR
VERSION:2.0
PRODID:-//SQRCODE v1.0//EN
CALSCALE:GREGORIAN
BEGIN:VEVENT
DTEND:20230416T170000Z
UID:S5ASC2QXXBR
DTSTAMP:20260421T112827Z
LOCATION:Bálványos  8614 Felsőhegy  
DESCRIPTION:Kedves Látogató!Biztosan már te is nagyon várod az
  idei tavaszt...Így vele együtt azt is\, hogy elláto
  gathass hozzánk szeretett völgyünkbe.Mi\, és a Tuli
   pánok is itt leszünk és bízunk benne\, hogy veled i
    s megoszthatjuk világunk és területünk picinyke r
     szét.Az elmúlt ősszel ismét több tízezer tulip
      nhagymát ültettünk Mandala formákba\, 4 különbö
       ző mintában „ülve” várják\, hogy Rád mosolyog
        hassanak.Idén tavasszal is szeretettel készülünk 
         s várjuk a veletek való találkozást!
URL;VALUE=URI:
SUMMARY:Tulipánszüret Bálványoson a Kincsek Völgyében
DTSTART:20230413T100000Z
END:VEVENT
END:VCALENDAR