
BEGIN:VCALENDAR
VERSION:2.0
PRODID:-//SQRCODE v1.0//EN
CALSCALE:GREGORIAN
BEGIN:VEVENT
DTEND:20230501T190000Z
UID:GJE1CREA8CZ4
DTSTAMP:20260422T101937Z
LOCATION:Balatonlelle Móló sétány 8638 Rendezvénypark  
DESCRIPTION:A balatonlellei Rendezvénypark április 28-án megnyitja k
 apuit! Pénteken májusfa állítás\, majd zenés borkostol
  ó\, szombat\, vasárnap utcabál! Hétfőn Majális!Mindenki
   t szeretettel várunk!
URL;VALUE=URI:
SUMMARY:Retro Majális Balatonlellén
DTSTART:20230428T170000Z
END:VEVENT
END:VCALENDAR