
BEGIN:VCALENDAR
VERSION:2.0
PRODID:-//SQRCODE v1.0//EN
CALSCALE:GREGORIAN
BEGIN:VEVENT
DTEND:20230529T170000Z
UID:2FYLY53V8Y2
DTSTAMP:20260421T104929Z
LOCATION:   Vöröstó  
DESCRIPTION:A tavalyi közös játék után idén is összegyűlünk\, 
 hogy Vöröstó\, Barnag és idén már Tótvázsony vendé
  gszerető családjainak álomszép kertjeiben és pajtáib
   an önfeledten mókázzunk\, vigadjunk\, versengjünk\, alkos
    sunk\, mulassunk - és persze játsszunk.
URL;VALUE=URI:
SUMMARY:Vöröstói Játékfesztivál
DTSTART:20230527T100000Z
END:VEVENT
END:VCALENDAR