
BEGIN:VCALENDAR
VERSION:2.0
PRODID:-//SQRCODE v1.0//EN
CALSCALE:GREGORIAN
BEGIN:VEVENT
DTEND:20230625T023000Z
UID:5FJK7D8DGHXF
DTSTAMP:20260422T102330Z
LOCATION:Kereki Hősök parkja 8618   
DESCRIPTION:
URL;VALUE=URI:
SUMMARY:Falunap és testvértelepülési találkozó Kerekiben
DTSTART:20230624T090000Z
END:VEVENT
END:VCALENDAR