
BEGIN:VCALENDAR
VERSION:2.0
PRODID:-//SQRCODE v1.0//EN
CALSCALE:GREGORIAN
BEGIN:VEVENT
DTEND:20240630T213000Z
UID:16BJ11J62BK2
DTSTAMP:20260421T110010Z
LOCATION:     
DESCRIPTION:31. Kabóciádé Családi Fesztivál „KIRÁLYFIK ÉS
  KIRÁLYLÁNYOK”Idén 31. alkalommal kerül megrende
  zésre a Kabóciádé Családi Fesztivál június 28-3
   0. között „királyfik és királylányok” temati
    kában. A fesztivál idén új helyszínre költözik:
      a szervezők a Kabóca Bábszínházban\, annak parkj
      ban\, illetve a Szerelem-szigeten előadásokkal\, ját
       ékterekkel\, éjszakai kalandtúrával\, kreatív fogla
        lkozásokkal és még számos izgalmas programmal vár
         ják majd a kikapcsolódni vágyó királyfi- és kir
          lylány-jelölteket.
URL;VALUE=URI:
SUMMARY:Kabóciádé
DTSTART:20240617T115000Z
END:VEVENT
END:VCALENDAR