
BEGIN:VCALENDAR
VERSION:2.0
PRODID:-//SQRCODE v1.0//EN
CALSCALE:GREGORIAN
BEGIN:VEVENT
DTEND:20260510T200000Z
UID:YF3K41A2H3N
DTSTAMP:20260424T155730Z
LOCATION:Badacsony     
DESCRIPTION:
URL;VALUE=URI:
SUMMARY:Gasztrohegy Badacsony
DTSTART:20251018T100000Z
END:VEVENT
END:VCALENDAR