
BEGIN:VCALENDAR
VERSION:2.0
PRODID:-//SQRCODE v1.0//EN
CALSCALE:GREGORIAN
BEGIN:VEVENT
DTEND:20260314T160000Z
UID:BFXQ0EXCEGYU
DTSTAMP:20260421T110707Z
LOCATION:Alsóörs Vasút u. 3.     
DESCRIPTION:
URL;VALUE=URI:
SUMMARY:Mandulavirág teljesítménytúra Alsóörsön
DTSTART:20260314T090000Z
END:VEVENT
END:VCALENDAR