
BEGIN:VCALENDAR
VERSION:2.0
PRODID:-//SQRCODE v1.0//EN
CALSCALE:GREGORIAN
BEGIN:VEVENT
DTEND:20260531T160000Z
UID:K4H2YG9MF0
DTSTAMP:20260424T154913Z
LOCATION:Balatonmagyaród Kányavári-sziget\, Kis-Balaton    
DESCRIPTION:
URL;VALUE=URI:
SUMMARY:Kányavári kenutúra a Kis-Balatonon
DTSTART:20260401T130000Z
END:VEVENT
END:VCALENDAR